BEGIN:VCALENDAR
VERSION:2.0
PRODID:icalendar-ruby
CALSCALE:GREGORIAN
BEGIN:VEVENT
DTSTAMP:20260419T130429Z
UID:eabaa020-cbe8-4c86-a05c-dc3299d884ef
DTSTART;VALUE=DATE:20260313
DTEND;VALUE=DATE:20260314
SUMMARY:Interschool Traditional Maori Games Year 3-6
END:VEVENT
END:VCALENDAR
