BEGIN:VCALENDAR
VERSION:2.0
PRODID:icalendar-ruby
CALSCALE:GREGORIAN
BEGIN:VEVENT
DTSTAMP:20260419T130608Z
UID:1404f384-2b98-4cf2-9a8d-17bf0920cdee
DTSTART;VALUE=DATE:20260309
DTEND;VALUE=DATE:20260310
SUMMARY:Term 1 Mid Term Cohort Entry (for New Entrants)
END:VEVENT
END:VCALENDAR
