BEGIN:VCALENDAR
VERSION:2.0
PRODID:icalendar-ruby
CALSCALE:GREGORIAN
BEGIN:VEVENT
DTSTAMP:20260419T130442Z
UID:b6a15951-aebb-4b69-8d95-bb6faffebf8d
DTSTART;VALUE=DATE:20260306
DTEND;VALUE=DATE:20260307
SUMMARY:PALS Leadership Day Year 5/6
END:VEVENT
END:VCALENDAR
