BEGIN:VCALENDAR
VERSION:2.0
PRODID:icalendar-ruby
CALSCALE:GREGORIAN
BEGIN:VEVENT
DTSTAMP:20260419T130747Z
UID:b13a5b31-06f7-4e97-a62f-79b0597b6740
DTSTART:20260302T020000Z
DTEND:20260302T020001Z
SUMMARY:Out of Zone Applications for Period 2 Close at 3pm
END:VEVENT
END:VCALENDAR
