BEGIN:VCALENDAR
VERSION:2.0
PRODID:icalendar-ruby
CALSCALE:GREGORIAN
BEGIN:VEVENT
DTSTAMP:20260419T130614Z
UID:c566d37a-d45b-4c02-a552-06c7282bbecd
DTSTART:20260218T033000Z
DTEND:20260218T050001Z
SUMMARY:Whanau BBQ Picnic and Hui
END:VEVENT
END:VCALENDAR
