BEGIN:VCALENDAR
VERSION:2.0
PRODID:icalendar-ruby
CALSCALE:GREGORIAN
BEGIN:VEVENT
DTSTAMP:20260419T130623Z
UID:f0633186-cf71-4833-812b-868e14b6c984
DTSTART;VALUE=DATE:20260206
DTEND;VALUE=DATE:20260207
DESCRIPTION:Public Holiday - school closed.
SUMMARY:Waitangi Day
END:VEVENT
END:VCALENDAR
