BEGIN:VCALENDAR
VERSION:2.0
PRODID:icalendar-ruby
CALSCALE:GREGORIAN
BEGIN:VEVENT
DTSTAMP:20260419T130741Z
UID:6292864d-d947-4639-a911-3b7b4be07f84
DTSTART;VALUE=DATE:20260402
DTEND;VALUE=DATE:20260403
SUMMARY:Last Day of Term 1
END:VEVENT
END:VCALENDAR
