BEGIN:VCALENDAR
VERSION:2.0
PRODID:icalendar-ruby
CALSCALE:GREGORIAN
BEGIN:VEVENT
DTSTAMP:20260419T130442Z
UID:3eea2737-703c-477e-a63f-cd212134262d
DTSTART;VALUE=DATE:20260223
DTEND;VALUE=DATE:20260224
SUMMARY:Teacher Only Day
END:VEVENT
END:VCALENDAR
