BEGIN:VCALENDAR
VERSION:2.0
PRODID:icalendar-ruby
CALSCALE:GREGORIAN
BEGIN:VEVENT
DTSTAMP:20260419T130640Z
UID:7c1cbd8b-feb9-48e5-9e2e-75482022c209
DTSTART;VALUE=DATE:20260202
DTEND;VALUE=DATE:20260203
SUMMARY:First Day of Term 1
END:VEVENT
END:VCALENDAR
